BEGIN:VCALENDAR
VERSION:2.0
PRODID:-//John Boner Neighborhood Centers - ECPv6.15.20//NONSGML v1.0//EN
CALSCALE:GREGORIAN
METHOD:PUBLISH
X-WR-CALNAME:John Boner Neighborhood Centers
X-ORIGINAL-URL:https://jbncenters.org
X-WR-CALDESC:Events for John Boner Neighborhood Centers
REFRESH-INTERVAL;VALUE=DURATION:PT1H
X-Robots-Tag:noindex
X-PUBLISHED-TTL:PT1H
BEGIN:VTIMEZONE
TZID:America/New_York
BEGIN:DAYLIGHT
TZOFFSETFROM:-0500
TZOFFSETTO:-0400
TZNAME:EDT
DTSTART:20200308T070000
END:DAYLIGHT
BEGIN:STANDARD
TZOFFSETFROM:-0400
TZOFFSETTO:-0500
TZNAME:EST
DTSTART:20201101T060000
END:STANDARD
BEGIN:DAYLIGHT
TZOFFSETFROM:-0500
TZOFFSETTO:-0400
TZNAME:EDT
DTSTART:20210314T070000
END:DAYLIGHT
BEGIN:STANDARD
TZOFFSETFROM:-0400
TZOFFSETTO:-0500
TZNAME:EST
DTSTART:20211107T060000
END:STANDARD
BEGIN:DAYLIGHT
TZOFFSETFROM:-0500
TZOFFSETTO:-0400
TZNAME:EDT
DTSTART:20220313T070000
END:DAYLIGHT
BEGIN:STANDARD
TZOFFSETFROM:-0400
TZOFFSETTO:-0500
TZNAME:EST
DTSTART:20221106T060000
END:STANDARD
END:VTIMEZONE
BEGIN:VEVENT
DTSTART;TZID=America/New_York:20210511T173000
DTEND;TZID=America/New_York:20210512T203000
DTSTAMP:20260420T081550
CREATED:20210219T164329Z
LAST-MODIFIED:20230213T190655Z
UID:3170-1620754200-1620851400@jbncenters.org
SUMMARY:Financial Foundation Pathways to Your Financial Destination Workshop
DESCRIPTION:Learn how to triple your savings\, build credit\, set goals\, develop spending plans\, and more. Discussions and exercises to fuel your dreams and improve your financial well-being. For more information contact Kimberly Thomas\, Financial Coach (317) 808-2341\, or your Case Manager. Link will be provided.
URL:https://jbncenters.org/event/financial-foundation-pathways-to-your-financial-destination-workshop/2021-05-11/
LOCATION:Virtual Event\, Virtual Event
CATEGORIES:Financial Success
ATTACH;FMTTYPE=image/jpeg:https://jbncenters.org/wp-content/uploads/2021/02/FinancialFoundations-PathwaysEvent-16x9-1.jpg
ORGANIZER;CN="JBNC Financial Success Department":MAILTO:financialsuccess@jbncenters.org
END:VEVENT
END:VCALENDAR