BEGIN:VCALENDAR
VERSION:2.0
PRODID:-//John Boner Neighborhood Centers - ECPv6.15.20//NONSGML v1.0//EN
CALSCALE:GREGORIAN
METHOD:PUBLISH
X-ORIGINAL-URL:https://jbncenters.org
X-WR-CALDESC:Events for John Boner Neighborhood Centers
REFRESH-INTERVAL;VALUE=DURATION:PT1H
X-Robots-Tag:noindex
X-PUBLISHED-TTL:PT1H
BEGIN:VTIMEZONE
TZID:America/New_York
BEGIN:DAYLIGHT
TZOFFSETFROM:-0500
TZOFFSETTO:-0400
TZNAME:EDT
DTSTART:20210314T070000
END:DAYLIGHT
BEGIN:STANDARD
TZOFFSETFROM:-0400
TZOFFSETTO:-0500
TZNAME:EST
DTSTART:20211107T060000
END:STANDARD
BEGIN:DAYLIGHT
TZOFFSETFROM:-0500
TZOFFSETTO:-0400
TZNAME:EDT
DTSTART:20220313T070000
END:DAYLIGHT
BEGIN:STANDARD
TZOFFSETFROM:-0400
TZOFFSETTO:-0500
TZNAME:EST
DTSTART:20221106T060000
END:STANDARD
BEGIN:DAYLIGHT
TZOFFSETFROM:-0500
TZOFFSETTO:-0400
TZNAME:EDT
DTSTART:20230312T070000
END:DAYLIGHT
BEGIN:STANDARD
TZOFFSETFROM:-0400
TZOFFSETTO:-0500
TZNAME:EST
DTSTART:20231105T060000
END:STANDARD
END:VTIMEZONE
BEGIN:VEVENT
DTSTART;TZID=America/New_York:20220503T170000
DTEND;TZID=America/New_York:20220531T210000
DTSTAMP:20260422T035140
CREATED:20220506T005053Z
LAST-MODIFIED:20220506T005053Z
UID:4895-1651597200-1654030800@jbncenters.org
SUMMARY:Qualified Medication Aide Training
DESCRIPTION:The Qualified Medication Aide (QMA) course prepares individuals to administer medication in the long-term care setting.  The coursework consists of didactic instruction and hands-on practice in the skills lab setting.  At the end of the course\, eligible students will be candidates to sit for the Indiana certification exam to be added to the Indiana registry as a QMA. \nQuestions? Contact Cynthia Coleman\, 317-808-2334 or Keith Kates\, 317-808-2331.
URL:https://jbncenters.org/event/qualified-medication-aide-training-2/2022-05-03/
LOCATION:John Boner Neighborhood Centers\, 2236 E. 10th St.\, Indianapolis\, 46205\, United States
CATEGORIES:Adult Programs,Careers and Education
ATTACH;FMTTYPE=image/png:https://jbncenters.org/wp-content/uploads/2022/05/medication-aid-Training.png
END:VEVENT
END:VCALENDAR