BEGIN:VCALENDAR
VERSION:2.0
PRODID:-//John Boner Neighborhood Centers - ECPv6.15.20//NONSGML v1.0//EN
CALSCALE:GREGORIAN
METHOD:PUBLISH
X-WR-CALNAME:John Boner Neighborhood Centers
X-ORIGINAL-URL:https://jbncenters.org
X-WR-CALDESC:Events for John Boner Neighborhood Centers
REFRESH-INTERVAL;VALUE=DURATION:PT1H
X-Robots-Tag:noindex
X-PUBLISHED-TTL:PT1H
BEGIN:VTIMEZONE
TZID:America/New_York
BEGIN:DAYLIGHT
TZOFFSETFROM:-0500
TZOFFSETTO:-0400
TZNAME:EDT
DTSTART:20240310T070000
END:DAYLIGHT
BEGIN:STANDARD
TZOFFSETFROM:-0400
TZOFFSETTO:-0500
TZNAME:EST
DTSTART:20241103T060000
END:STANDARD
BEGIN:DAYLIGHT
TZOFFSETFROM:-0500
TZOFFSETTO:-0400
TZNAME:EDT
DTSTART:20250309T070000
END:DAYLIGHT
BEGIN:STANDARD
TZOFFSETFROM:-0400
TZOFFSETTO:-0500
TZNAME:EST
DTSTART:20251102T060000
END:STANDARD
BEGIN:DAYLIGHT
TZOFFSETFROM:-0500
TZOFFSETTO:-0400
TZNAME:EDT
DTSTART:20260308T070000
END:DAYLIGHT
BEGIN:STANDARD
TZOFFSETFROM:-0400
TZOFFSETTO:-0500
TZNAME:EST
DTSTART:20261101T060000
END:STANDARD
END:VTIMEZONE
BEGIN:VEVENT
DTSTART;TZID=America/New_York:20250505T093000
DTEND;TZID=America/New_York:20250509T160000
DTSTAMP:20260422T171236
CREATED:20250102T192653Z
LAST-MODIFIED:20250103T174954Z
UID:7503-1746437400-1746806400@jbncenters.org
SUMMARY:Career Readiness Workshop
DESCRIPTION:Whether you are preparing for your first job or seeking a career change\, this workshop will provide practical tips and insights to help you stand out in today’s competitive job market. This interactive workshop is designed to equip you with essential skills for career success. Learn how to build a compelling resume\, ace interviews\, and develop a strong professional presence. \nKey Workshop Highlights: \n\nProfessional resume writing\nInterview preparation strategies\nNetworking and professional etiquette\n\nWho Should Attend: \nThose who are currently under-employed or unemployed and would like further skills training\, certification\, and licensing. students\, recent graduates\, and professionals looking to enhance their career readiness. \nDon’t miss this opportunity to boost your confidence and take your career to the next level!\n*Earn $100 for perfect attendance for the entire workshop! \nRegister here: https://forms.office.com/r/3N78JKacKh \nQuestions? Email financialsuccess@jbncenters.org for more information.
URL:https://jbncenters.org/event/career-readiness-workshop-may-5/
LOCATION:John Boner Neighborhood Centers\, 2236 E. 10th St.\, Indianapolis\, 46205\, United States
CATEGORIES:Adult Programs,Career Readiness Workshop,Careers and Education,Financial Success
ATTACH;FMTTYPE=image/png:https://jbncenters.org/wp-content/uploads/2025/01/January.png
ORGANIZER;CN="JBNC Financial Success Department":MAILTO:financialsuccess@jbncenters.org
END:VEVENT
BEGIN:VEVENT
DTSTART;TZID=America/New_York:20250506T173000
DTEND;TZID=America/New_York:20250506T190000
DTSTAMP:20260422T171236
CREATED:20241221T145239Z
LAST-MODIFIED:20241221T145239Z
UID:7428-1746552600-1746558000@jbncenters.org
SUMMARY:Learn Early: Kids Kitchen
DESCRIPTION:Cooking encourages children’s thinking\, problem-solving\, and creativity. It also allows the children the opportunity to use the knowledge they have and apply it by measuring\, cause and effect\, and counting. Parents and children cooking together teaches early math and science\, encourages families to share meals more often\, and get to know each other on a deeper level. The most important thing to remember is to have fun with your children as they have those learning experiences and learn about the joy of cooking. \nRSVP to Pam Holland\, pholland@jbncenters.com.parent
URL:https://jbncenters.org/event/learn-early-kids-kitchen-may/
LOCATION:The Union Apartments\, 2407 E. Michigan St.\, Indianapolis\, IN\, 46201\, United States
CATEGORIES:Family Engagement,Family Success,Learn Early
ATTACH;FMTTYPE=image/png:https://jbncenters.org/wp-content/uploads/2024/12/13.png
ORGANIZER;CN="JBNC Family Success":MAILTO:pholland@jbncenters.org
END:VEVENT
END:VCALENDAR