BEGIN:VCALENDAR
VERSION:2.0
PRODID:-//John Boner Neighborhood Centers - ECPv6.15.20//NONSGML v1.0//EN
CALSCALE:GREGORIAN
METHOD:PUBLISH
X-ORIGINAL-URL:https://jbncenters.org
X-WR-CALDESC:Events for John Boner Neighborhood Centers
REFRESH-INTERVAL;VALUE=DURATION:PT1H
X-Robots-Tag:noindex
X-PUBLISHED-TTL:PT1H
BEGIN:VTIMEZONE
TZID:America/New_York
BEGIN:DAYLIGHT
TZOFFSETFROM:-0500
TZOFFSETTO:-0400
TZNAME:EDT
DTSTART:20240310T070000
END:DAYLIGHT
BEGIN:STANDARD
TZOFFSETFROM:-0400
TZOFFSETTO:-0500
TZNAME:EST
DTSTART:20241103T060000
END:STANDARD
BEGIN:DAYLIGHT
TZOFFSETFROM:-0500
TZOFFSETTO:-0400
TZNAME:EDT
DTSTART:20250309T070000
END:DAYLIGHT
BEGIN:STANDARD
TZOFFSETFROM:-0400
TZOFFSETTO:-0500
TZNAME:EST
DTSTART:20251102T060000
END:STANDARD
BEGIN:DAYLIGHT
TZOFFSETFROM:-0500
TZOFFSETTO:-0400
TZNAME:EDT
DTSTART:20260308T070000
END:DAYLIGHT
BEGIN:STANDARD
TZOFFSETFROM:-0400
TZOFFSETTO:-0500
TZNAME:EST
DTSTART:20261101T060000
END:STANDARD
END:VTIMEZONE
BEGIN:VEVENT
DTSTART;TZID=America/New_York:20250519T093000
DTEND;TZID=America/New_York:20250523T160000
DTSTAMP:20260422T235053
CREATED:20250102T192753Z
LAST-MODIFIED:20250103T175051Z
UID:7505-1747647000-1748016000@jbncenters.org
SUMMARY:Career Readiness Workshop
DESCRIPTION:Whether you are preparing for your first job or seeking a career change\, this workshop will provide practical tips and insights to help you stand out in today’s competitive job market. This interactive workshop is designed to equip you with essential skills for career success. Learn how to build a compelling resume\, ace interviews\, and develop a strong professional presence. \nKey Workshop Highlights: \n\nProfessional resume writing\nInterview preparation strategies\nNetworking and professional etiquette\n\nWho Should Attend: \nThose who are currently under-employed or unemployed and would like further skills training\, certification\, and licensing. students\, recent graduates\, and professionals looking to enhance their career readiness. \nDon’t miss this opportunity to boost your confidence and take your career to the next level!\n*Earn $100 for perfect attendance for the entire workshop! \nRegister here: https://forms.office.com/r/DPRGy98X2e \nQuestions? Email financialsuccess@jbncenters.org for more information.
URL:https://jbncenters.org/event/career-readiness-workshop-may-19/
LOCATION:John Boner Neighborhood Centers\, 2236 E. 10th St.\, Indianapolis\, 46205\, United States
CATEGORIES:Adult Programs,Career Readiness Workshop,Careers and Education,Financial Success
ATTACH;FMTTYPE=image/png:https://jbncenters.org/wp-content/uploads/2025/01/January.png
ORGANIZER;CN="JBNC Financial Success Department":MAILTO:financialsuccess@jbncenters.org
END:VEVENT
BEGIN:VEVENT
DTSTART;TZID=America/New_York:20250522T090000
DTEND;TZID=America/New_York:20250522T123000
DTSTAMP:20260422T235053
CREATED:20250428T144114Z
LAST-MODIFIED:20250428T144249Z
UID:7985-1747904400-1747917000@jbncenters.org
SUMMARY:Are You Lender Ready? Small Business Workshops
DESCRIPTION:Are you Lender Ready? Is a comprehensive\, two-part series designed to help small business owners understand and prepare financials\, then connect with small business lenders.  \n\n\nWorkshop #1 on May 22 will focus on small business finance basics helping owners to become lender ready. It will walk small business owners through understanding both business and personal credit and the documents required to apply for small business loans. \n\n\n\nWorkshop #2 is a Lender Forum/Resource Fair following up on what was learned from the first workshop introducing you to traditional and alternative lenders. The end of the day will provide an opportunity for one-on-ones with lenders. \n\n\n\nRegister to attend here.  \n\nIn partnership with the US Small Business Association and SCORE. All SBA programs and services are extended to the public on a nondiscriminatory basis. Reasonable accommodations will be made if requested at least two weeks in advance.
URL:https://jbncenters.org/event/lenderworkshops/2025-05-22/
LOCATION:John Boner Neighborhood Centers\, 2236 E. 10th St.\, Indianapolis\, 46205\, United States
CATEGORIES:Adult Programs,Community,Financial Success
ATTACH;FMTTYPE=image/jpeg:https://jbncenters.org/wp-content/uploads/2025/04/pexels-jopwell-2422293-scaled.jpg
ORGANIZER;CN="Indy East Promise Zone (IEPZ)":MAILTO:enash@jbncenters.org
END:VEVENT
BEGIN:VEVENT
DTSTART;TZID=America/New_York:20250522T173000
DTEND;TZID=America/New_York:20250522T190000
DTSTAMP:20260422T235053
CREATED:20241231T173259Z
LAST-MODIFIED:20241231T202404Z
UID:7463-1747935000-1747940400@jbncenters.org
SUMMARY:Learn Early: Storytime
DESCRIPTION:Spark your child’s love of reading at our storytime! We’ll share captivating stories\, sing songs that build early literacy skills\, and encourage a lifelong love of books. Designed for children ages 0-5 and their caregivers. \nRSVP to Pam Holland\, pholland@jbncenters.org.
URL:https://jbncenters.org/event/learn-early-storytime-may/
LOCATION:The Union Apartments\, 2407 E. Michigan St.\, Indianapolis\, IN\, 46201\, United States
CATEGORIES:Family Engagement,Learn Early
ATTACH;FMTTYPE=image/png:https://jbncenters.org/wp-content/uploads/2024/12/15.png
ORGANIZER;CN="JBNC Family Success":MAILTO:pholland@jbncenters.org
END:VEVENT
END:VCALENDAR