BEGIN:VCALENDAR
VERSION:2.0
PRODID:-//John Boner Neighborhood Centers - ECPv6.15.20//NONSGML v1.0//EN
CALSCALE:GREGORIAN
METHOD:PUBLISH
X-ORIGINAL-URL:https://jbncenters.org
X-WR-CALDESC:Events for John Boner Neighborhood Centers
REFRESH-INTERVAL;VALUE=DURATION:PT1H
X-Robots-Tag:noindex
X-PUBLISHED-TTL:PT1H
BEGIN:VTIMEZONE
TZID:America/New_York
BEGIN:DAYLIGHT
TZOFFSETFROM:-0500
TZOFFSETTO:-0400
TZNAME:EDT
DTSTART:20240310T070000
END:DAYLIGHT
BEGIN:STANDARD
TZOFFSETFROM:-0400
TZOFFSETTO:-0500
TZNAME:EST
DTSTART:20241103T060000
END:STANDARD
BEGIN:DAYLIGHT
TZOFFSETFROM:-0500
TZOFFSETTO:-0400
TZNAME:EDT
DTSTART:20250309T070000
END:DAYLIGHT
BEGIN:STANDARD
TZOFFSETFROM:-0400
TZOFFSETTO:-0500
TZNAME:EST
DTSTART:20251102T060000
END:STANDARD
BEGIN:DAYLIGHT
TZOFFSETFROM:-0500
TZOFFSETTO:-0400
TZNAME:EDT
DTSTART:20260308T070000
END:DAYLIGHT
BEGIN:STANDARD
TZOFFSETFROM:-0400
TZOFFSETTO:-0500
TZNAME:EST
DTSTART:20261101T060000
END:STANDARD
END:VTIMEZONE
BEGIN:VEVENT
DTSTART;TZID=America/New_York:20250702T130000
DTEND;TZID=America/New_York:20250702T170000
DTSTAMP:20260422T072039
CREATED:20250428T144114Z
LAST-MODIFIED:20250428T144249Z
UID:7987-1751461200-1751475600@jbncenters.org
SUMMARY:Are You Lender Ready? Small Business Workshops
DESCRIPTION:Are you Lender Ready? Is a comprehensive\, two-part series designed to help small business owners understand and prepare financials\, then connect with small business lenders.  \n\n\nWorkshop #1 on May 22 will focus on small business finance basics helping owners to become lender ready. It will walk small business owners through understanding both business and personal credit and the documents required to apply for small business loans. \n\n\n\nWorkshop #2 is a Lender Forum/Resource Fair following up on what was learned from the first workshop introducing you to traditional and alternative lenders. The end of the day will provide an opportunity for one-on-ones with lenders. \n\n\n\nRegister to attend here.  \n\nIn partnership with the US Small Business Association and SCORE. All SBA programs and services are extended to the public on a nondiscriminatory basis. Reasonable accommodations will be made if requested at least two weeks in advance.
URL:https://jbncenters.org/event/lenderworkshops/2025-07-02/
LOCATION:John Boner Neighborhood Centers\, 2236 E. 10th St.\, Indianapolis\, 46205\, United States
CATEGORIES:Adult Programs,Community,Financial Success
ATTACH;FMTTYPE=image/jpeg:https://jbncenters.org/wp-content/uploads/2025/04/pexels-jopwell-2422293-scaled.jpg
ORGANIZER;CN="Indy East Promise Zone (IEPZ)":MAILTO:enash@jbncenters.org
END:VEVENT
END:VCALENDAR