BEGIN:VCALENDAR
VERSION:2.0
PRODID:-//John Boner Neighborhood Centers - ECPv6.15.20//NONSGML v1.0//EN
CALSCALE:GREGORIAN
METHOD:PUBLISH
X-WR-CALNAME:John Boner Neighborhood Centers
X-ORIGINAL-URL:https://jbncenters.org
X-WR-CALDESC:Events for John Boner Neighborhood Centers
REFRESH-INTERVAL;VALUE=DURATION:PT1H
X-Robots-Tag:noindex
X-PUBLISHED-TTL:PT1H
BEGIN:VTIMEZONE
TZID:America/New_York
BEGIN:DAYLIGHT
TZOFFSETFROM:-0500
TZOFFSETTO:-0400
TZNAME:EDT
DTSTART:20240310T070000
END:DAYLIGHT
BEGIN:STANDARD
TZOFFSETFROM:-0400
TZOFFSETTO:-0500
TZNAME:EST
DTSTART:20241103T060000
END:STANDARD
BEGIN:DAYLIGHT
TZOFFSETFROM:-0500
TZOFFSETTO:-0400
TZNAME:EDT
DTSTART:20250309T070000
END:DAYLIGHT
BEGIN:STANDARD
TZOFFSETFROM:-0400
TZOFFSETTO:-0500
TZNAME:EST
DTSTART:20251102T060000
END:STANDARD
BEGIN:DAYLIGHT
TZOFFSETFROM:-0500
TZOFFSETTO:-0400
TZNAME:EDT
DTSTART:20260308T070000
END:DAYLIGHT
BEGIN:STANDARD
TZOFFSETFROM:-0400
TZOFFSETTO:-0500
TZNAME:EST
DTSTART:20261101T060000
END:STANDARD
END:VTIMEZONE
BEGIN:VEVENT
DTSTART;TZID=America/New_York:20251020T093000
DTEND;TZID=America/New_York:20251031T160000
DTSTAMP:20260420T195500
CREATED:20250702T205254Z
LAST-MODIFIED:20250702T205254Z
UID:8295-1760952600-1761926400@jbncenters.org
SUMMARY:Career Readiness Workshop
DESCRIPTION:Whether you are preparing for your first job or seeking a career change\, this workshop will provide practical tips and insights to help you stand out in today’s competitive job market. This interactive workshop is designed to equip you with essential skills for career success. Learn how to build a compelling resume\, ace interviews\, and develop a strong professional presence. \nKey Workshop Highlights: \n\nProfessional resume writing\nInterview preparation strategies\nNetworking and professional etiquette\n\nWho Should Attend: \nThose who are currently under-employed or unemployed and would like further skills training\, certification\, and licensing. students\, recent graduates\, and professionals looking to enhance their career readiness. \nDon’t miss this opportunity to boost your confidence and take your career to the next level!\n*Earn a $200 gift card for perfect attendance for the entire 8-day workshop! \nRegister here: https://forms.office.com/r/6gg8LVrMdv \nQuestions? Email financialsuccess@jbncenters.org for more information.
URL:https://jbncenters.org/event/career-readiness-workshop-october/
LOCATION:John Boner Neighborhood Centers\, 2236 E. 10th St.\, Indianapolis\, 46205\, United States
CATEGORIES:Adult Programs,Career Readiness Workshop,Careers and Education,Financial Success
ATTACH;FMTTYPE=image/png:https://jbncenters.org/wp-content/uploads/2025/01/January.png
ORGANIZER;CN="JBNC Financial Success Department":MAILTO:financialsuccess@jbncenters.org
END:VEVENT
BEGIN:VEVENT
DTSTART;TZID=America/New_York:20251030T173000
DTEND;TZID=America/New_York:20251030T190000
DTSTAMP:20260420T195500
CREATED:20250116T211202Z
LAST-MODIFIED:20251027T155855Z
UID:7662-1761845400-1761850800@jbncenters.org
SUMMARY:Learn Early: Music & Movement
DESCRIPTION:Children are always learning. From a very young age\, they are moving. They are mastering skills when they are crawling\, jumping\, walking and running\, but then you add music and they are building even more skills like listening\, following directions\, and language. These are some of the skills needed for Kindergarten readiness. You and your child (ages 0-5) are learning when you are dancing\, listening to music \, or singing together. Come by the Union Apartments the 1st Friday of every month and get moving! \nRSVP to Pam Holland\, pholland@jbncenters.com.
URL:https://jbncenters.org/event/learn-early-music-movement-october/
LOCATION:The Union Apartments\, 2407 E. Michigan St.\, Indianapolis\, IN\, 46201\, United States
CATEGORIES:Family Engagement,Learn Early
ATTACH;FMTTYPE=image/png:https://jbncenters.org/wp-content/uploads/2025/01/October-Music-and-Movement.png
ORGANIZER;CN="JBNC Family Success":MAILTO:pholland@jbncenters.org
END:VEVENT
END:VCALENDAR