BEGIN:VCALENDAR
VERSION:2.0
PRODID:-//John Boner Neighborhood Centers - ECPv6.15.20//NONSGML v1.0//EN
CALSCALE:GREGORIAN
METHOD:PUBLISH
X-ORIGINAL-URL:https://jbncenters.org
X-WR-CALDESC:Events for John Boner Neighborhood Centers
REFRESH-INTERVAL;VALUE=DURATION:PT1H
X-Robots-Tag:noindex
X-PUBLISHED-TTL:PT1H
BEGIN:VTIMEZONE
TZID:America/New_York
BEGIN:DAYLIGHT
TZOFFSETFROM:-0500
TZOFFSETTO:-0400
TZNAME:EDT
DTSTART:20240310T070000
END:DAYLIGHT
BEGIN:STANDARD
TZOFFSETFROM:-0400
TZOFFSETTO:-0500
TZNAME:EST
DTSTART:20241103T060000
END:STANDARD
BEGIN:DAYLIGHT
TZOFFSETFROM:-0500
TZOFFSETTO:-0400
TZNAME:EDT
DTSTART:20250309T070000
END:DAYLIGHT
BEGIN:STANDARD
TZOFFSETFROM:-0400
TZOFFSETTO:-0500
TZNAME:EST
DTSTART:20251102T060000
END:STANDARD
BEGIN:DAYLIGHT
TZOFFSETFROM:-0500
TZOFFSETTO:-0400
TZNAME:EDT
DTSTART:20260308T070000
END:DAYLIGHT
BEGIN:STANDARD
TZOFFSETFROM:-0400
TZOFFSETTO:-0500
TZNAME:EST
DTSTART:20261101T060000
END:STANDARD
END:VTIMEZONE
BEGIN:VEVENT
DTSTART;TZID=America/New_York:20251104T100000
DTEND;TZID=America/New_York:20251104T110000
DTSTAMP:20260425T144037
CREATED:20250102T223244Z
LAST-MODIFIED:20250102T223244Z
UID:8278-1762250400-1762254000@jbncenters.org
SUMMARY:Gateway Orientation
DESCRIPTION:Ready to take control of your finances and build a brighter future? John Boner Neighborhood Financial Success Services can help! \nAt our Gateway Orientation\, you’ll: \n\nUnleash the Power of Your Finances: Discover the tools and strategies JBNC offers to boost your savings\, manage debt\, and achieve your financial goals.\nKnow Where You Stand: We’ll help you assess your current financial situation and identify areas for improvement.\nConnect with Financial Experts: Meet JBNC staff and explore personalized programs designed to empower you.\nUnlock Your Career Potential: Learn job readiness skills and gain valuable insights for career development.\n\nNo registration needed! Our convenient orientations are held twice per month. Questions? Email financialsuccess@jbncenters.org for more information.
URL:https://jbncenters.org/event/gateway-orientation-2025/2025-11-04/
LOCATION:John Boner Neighborhood Centers\, 2236 E. 10th St.\, Indianapolis\, 46205\, United States
CATEGORIES:Gateway Orientation
ATTACH;FMTTYPE=image/png:https://jbncenters.org/wp-content/uploads/2025/01/2025-Gateway-Orientation-Website-Header-1600-x-900-px.png
ORGANIZER;CN="JBNC Financial Success Department":MAILTO:financialsuccess@jbncenters.org
END:VEVENT
BEGIN:VEVENT
DTSTART;TZID=America/New_York:20251104T173000
DTEND;TZID=America/New_York:20251104T190000
DTSTAMP:20260425T144037
CREATED:20250116T174806Z
LAST-MODIFIED:20250116T174806Z
UID:7651-1762277400-1762282800@jbncenters.org
SUMMARY:Learn Early: Kids Kitchen
DESCRIPTION:Cooking encourages children’s thinking\, problem-solving\, and creativity. It also allows the children the opportunity to use the knowledge they have and apply it by measuring\, cause and effect\, and counting. Parents and children cooking together teaches early math and science\, encourages families to share meals more often\, and get to know each other on a deeper level. The most important thing to remember is to have fun with your children as they have those learning experiences and learn about the joy of cooking. \nRSVP to Pam Holland\, pholland@jbncenters.com.
URL:https://jbncenters.org/event/learn-early-kids-kitchen-november/
LOCATION:The Union Apartments\, 2407 E. Michigan St.\, Indianapolis\, IN\, 46201\, United States
CATEGORIES:Family Engagement,Family Success,Learn Early
ATTACH;FMTTYPE=image/png:https://jbncenters.org/wp-content/uploads/2025/01/November-Kitchen.png
ORGANIZER;CN="JBNC Family Success":MAILTO:pholland@jbncenters.org
END:VEVENT
END:VCALENDAR