BEGIN:VCALENDAR
VERSION:2.0
PRODID:-//John Boner Neighborhood Centers - ECPv6.15.20//NONSGML v1.0//EN
CALSCALE:GREGORIAN
METHOD:PUBLISH
X-WR-CALNAME:John Boner Neighborhood Centers
X-ORIGINAL-URL:https://jbncenters.org
X-WR-CALDESC:Events for John Boner Neighborhood Centers
REFRESH-INTERVAL;VALUE=DURATION:PT1H
X-Robots-Tag:noindex
X-PUBLISHED-TTL:PT1H
BEGIN:VTIMEZONE
TZID:America/New_York
BEGIN:DAYLIGHT
TZOFFSETFROM:-0500
TZOFFSETTO:-0400
TZNAME:EDT
DTSTART:20230312T070000
END:DAYLIGHT
BEGIN:STANDARD
TZOFFSETFROM:-0400
TZOFFSETTO:-0500
TZNAME:EST
DTSTART:20231105T060000
END:STANDARD
BEGIN:DAYLIGHT
TZOFFSETFROM:-0500
TZOFFSETTO:-0400
TZNAME:EDT
DTSTART:20240310T070000
END:DAYLIGHT
BEGIN:STANDARD
TZOFFSETFROM:-0400
TZOFFSETTO:-0500
TZNAME:EST
DTSTART:20241103T060000
END:STANDARD
BEGIN:DAYLIGHT
TZOFFSETFROM:-0500
TZOFFSETTO:-0400
TZNAME:EDT
DTSTART:20250309T070000
END:DAYLIGHT
BEGIN:STANDARD
TZOFFSETFROM:-0400
TZOFFSETTO:-0500
TZNAME:EST
DTSTART:20251102T060000
END:STANDARD
END:VTIMEZONE
BEGIN:VEVENT
DTSTART;TZID=America/New_York:20240203T090000
DTEND;TZID=America/New_York:20240203T150000
DTSTAMP:20260425T094617
CREATED:20240201T181514Z
LAST-MODIFIED:20240201T181514Z
UID:6560-1706950800-1706972400@jbncenters.org
SUMMARY:Super Refund Saturday
DESCRIPTION:KeyBank is partnering with the John Boner Neighborhood Centers to host a free tax preparation event called Super Refund Saturday. KeyBank employees will work alongside volunteers from various organizations to provide free tax preparation services to those who need it most\, helping low- to moderate-income individuals and families determine their eligibility for the Earned Income Tax Credit (EITC). \nAll tax filers are welcome to attend the event\, and the individual does not have to be a KeyBank customer to participate. KeyBank has partnered with the John Boner Neighborhood Centers for more than a decade to provide this free service to community members.
URL:https://jbncenters.org/event/super-refund-saturday/
LOCATION:John Boner Neighborhood Centers\, 2236 E. 10th St.\, Indianapolis\, 46205\, United States
CATEGORIES:Adult Programs,Financial Success
ATTACH;FMTTYPE=image/jpeg:https://jbncenters.org/wp-content/uploads/2024/02/pexels-nataliya-vaitkevich-6863244-2-scaled.jpg
ORGANIZER;CN="JBNC Financial Success Department":MAILTO:financialsuccess@jbncenters.org
END:VEVENT
BEGIN:VEVENT
DTSTART;TZID=America/New_York:20240210T090000
DTEND;TZID=America/New_York:20240210T150000
DTSTAMP:20260425T094617
CREATED:20240108T214620Z
LAST-MODIFIED:20240108T214620Z
UID:6509-1707555600-1707577200@jbncenters.org
SUMMARY:Pathways to Your Financial Destination
DESCRIPTION:Live Your Best Life – Creative\, Resourceful & Whole \nLearn how to triple your savings\, repair and build credit\, set financial goals\, develop spending plans\, and more. Discussions and exercises during class will improve your financial well-being and allow you to reach your dreams. Questions? Contact your Case Manager or Sharon Brashears\, Financial Coach\, 317-808-2335\n*Must attend the full day to receive your certificate. \nOther upcoming pathway dates: March 9 // May 14 & 16 // June 8 // July 16-18 // September 14 // October 8 & 10 // November 9
URL:https://jbncenters.org/event/pathways-to-your-financial-destination-february/
LOCATION:John Boner Neighborhood Centers\, 2236 E. 10th St.\, Indianapolis\, 46205\, United States
CATEGORIES:Adult Programs,Financial Success
ATTACH;FMTTYPE=image/jpeg:https://jbncenters.org/wp-content/uploads/2021/02/FinancialFoundations-PathwaysEvent-16x9-1.jpg
END:VEVENT
BEGIN:VEVENT
DTSTART;TZID=America/New_York:20240221T090000
DTEND;TZID=America/New_York:20240221T110000
DTSTAMP:20260425T094617
CREATED:20240220T203415Z
LAST-MODIFIED:20240708T174431Z
UID:6627-1708506000-1708513200@jbncenters.org
SUMMARY:Grant Office Hours
DESCRIPTION:Are you new to grant writing and want to learn more about the opportunities? Working on a grant and want another set of eyes to review your potential submission? Need help researching potential grants for your organization? John Boner Neighborhood Centers is offering grant “office hours” with our Director of Grants\, Christiana Long. Book an office hour through this link. \nAs Director of Grants\, Christiana oversees and manages all of John Boner Neighborhood Centers’ grant funding efforts by exploring funding from state and federal agencies\, public corporations\, private foundations\, and individuals. Her responsibilities include leading the organization’s funding strategy and drafting grant proposals by developing narrative\, assisting in budget creation and program design\, logic models\, and submission. To date\, Christiana has helped secure more than $25.4 million in funding for for the organization. \nIf you are new to grants\, a young nonprofit organization\, or an individual looking to learn about grants – feel free to schedule a time to connect with Christiana. \nOffice Hours will include: \n\nOverall introduction to grants\nNarrative construction\, do’s and don’ts\nGrant research and overview of grant types available\nHow to identify a grant opportunity is right for you or your organization\nReal-time feedback on drafted grant prior to submission\nSearching for data and supporting research\, how these elements can strengthen a grant proposal\nSubmitting a proposal to a funder\nProgram development and planning support\n\nDuring office hours Christiana cannot write or edit your grant application\, prepare supporting materials or provide outside grant writing services. \nUpcoming Office Hours every Wednesday from 9 a.m. – 11 a.m. EST.\nMeeting are available in 30-minute increments. Book a time during office hours through this link.
URL:https://jbncenters.org/event/grant-office-hours-2024/2024-02-21/
LOCATION:Virtual Event\, Virtual Event
CATEGORIES:Adult Programs,Community
ATTACH;FMTTYPE=image/jpeg:https://jbncenters.org/wp-content/uploads/2023/03/pexels-judit-peter-1766604-1-scaled.jpg
ORGANIZER;CN="JBNC Grants":MAILTO:clong@jbncenters.org
END:VEVENT
END:VCALENDAR