BEGIN:VCALENDAR
VERSION:2.0
PRODID:-//John Boner Neighborhood Centers - ECPv6.15.20//NONSGML v1.0//EN
CALSCALE:GREGORIAN
METHOD:PUBLISH
X-ORIGINAL-URL:https://jbncenters.org
X-WR-CALDESC:Events for John Boner Neighborhood Centers
REFRESH-INTERVAL;VALUE=DURATION:PT1H
X-Robots-Tag:noindex
X-PUBLISHED-TTL:PT1H
BEGIN:VTIMEZONE
TZID:America/New_York
BEGIN:DAYLIGHT
TZOFFSETFROM:-0500
TZOFFSETTO:-0400
TZNAME:EDT
DTSTART:20230312T070000
END:DAYLIGHT
BEGIN:STANDARD
TZOFFSETFROM:-0400
TZOFFSETTO:-0500
TZNAME:EST
DTSTART:20231105T060000
END:STANDARD
BEGIN:DAYLIGHT
TZOFFSETFROM:-0500
TZOFFSETTO:-0400
TZNAME:EDT
DTSTART:20240310T070000
END:DAYLIGHT
BEGIN:STANDARD
TZOFFSETFROM:-0400
TZOFFSETTO:-0500
TZNAME:EST
DTSTART:20241103T060000
END:STANDARD
BEGIN:DAYLIGHT
TZOFFSETFROM:-0500
TZOFFSETTO:-0400
TZNAME:EDT
DTSTART:20250309T070000
END:DAYLIGHT
BEGIN:STANDARD
TZOFFSETFROM:-0400
TZOFFSETTO:-0500
TZNAME:EST
DTSTART:20251102T060000
END:STANDARD
END:VTIMEZONE
BEGIN:VEVENT
DTSTART;TZID=America/New_York:20240429T100000
DTEND;TZID=America/New_York:20240502T160000
DTSTAMP:20260423T005028
CREATED:20240312T183906Z
LAST-MODIFIED:20240312T183906Z
UID:6728-1714384800-1714665600@jbncenters.org
SUMMARY:IEPZ Small Business Week
DESCRIPTION:Join us for four days of special events from April 29 – May 2\, specifically curated for small business owners and entrepreneurs! For more information\, visit https://indyeast.org/2024-smallbusinessweek.
URL:https://jbncenters.org/event/iepz-small-business-week/
LOCATION:John Boner Neighborhood Centers\, 2236 E. 10th St.\, Indianapolis\, 46205\, United States
CATEGORIES:Adult Programs,Community
ATTACH;FMTTYPE=image/png:https://jbncenters.org/wp-content/uploads/2024/03/Small-Business-Week-Overview.png
ORGANIZER;CN="Indy East Promise Zone (IEPZ)":MAILTO:enash@jbncenters.org
END:VEVENT
BEGIN:VEVENT
DTSTART;TZID=America/New_York:20240502T183000
DTEND;TZID=America/New_York:20240502T200000
DTSTAMP:20260423T005028
CREATED:20240312T190412Z
LAST-MODIFIED:20240312T190412Z
UID:6739-1714674600-1714680000@jbncenters.org
SUMMARY:IEPZ Small Business Week: Pitch Night
DESCRIPTION:Cheer on Indianapolis entrepreneurs as they pitch their business ideas for a chance to win up to $3\,000 in seed money! Eight businesses from the LISC Microenterprise Navigator Program located at Martindale Brightwood CDC and SEND will showcase their business or startup for a chance to win up to $3\,000. You won’t want to miss this evening packed with Eastside entrepreneurship and innovation. Refreshments will be provided. Register here. \nIn partnership with:
URL:https://jbncenters.org/event/iepz-small-business-week-pitch-night/
LOCATION:Southeast Community Serivces Auditorium\, 901 Shelby St.\, Indianapolis\, IN\, 46203\, United States
CATEGORIES:Adult Programs,Community
ATTACH;FMTTYPE=image/png:https://jbncenters.org/wp-content/uploads/2024/03/Pitch-Night.png
ORGANIZER;CN="Indy East Promise Zone (IEPZ)":MAILTO:enash@jbncenters.org
END:VEVENT
END:VCALENDAR