BEGIN:VCALENDAR
VERSION:2.0
PRODID:-//John Boner Neighborhood Centers - ECPv6.15.20//NONSGML v1.0//EN
CALSCALE:GREGORIAN
METHOD:PUBLISH
X-WR-CALNAME:John Boner Neighborhood Centers
X-ORIGINAL-URL:https://jbncenters.org
X-WR-CALDESC:Events for John Boner Neighborhood Centers
REFRESH-INTERVAL;VALUE=DURATION:PT1H
X-Robots-Tag:noindex
X-PUBLISHED-TTL:PT1H
BEGIN:VTIMEZONE
TZID:America/New_York
BEGIN:DAYLIGHT
TZOFFSETFROM:-0500
TZOFFSETTO:-0400
TZNAME:EDT
DTSTART:20200308T070000
END:DAYLIGHT
BEGIN:STANDARD
TZOFFSETFROM:-0400
TZOFFSETTO:-0500
TZNAME:EST
DTSTART:20201101T060000
END:STANDARD
BEGIN:DAYLIGHT
TZOFFSETFROM:-0500
TZOFFSETTO:-0400
TZNAME:EDT
DTSTART:20210314T070000
END:DAYLIGHT
BEGIN:STANDARD
TZOFFSETFROM:-0400
TZOFFSETTO:-0500
TZNAME:EST
DTSTART:20211107T060000
END:STANDARD
BEGIN:DAYLIGHT
TZOFFSETFROM:-0500
TZOFFSETTO:-0400
TZNAME:EDT
DTSTART:20220313T070000
END:DAYLIGHT
BEGIN:STANDARD
TZOFFSETFROM:-0400
TZOFFSETTO:-0500
TZNAME:EST
DTSTART:20221106T060000
END:STANDARD
END:VTIMEZONE
BEGIN:VEVENT
DTSTART;TZID=America/New_York:20210908T163000
DTEND;TZID=America/New_York:20210908T183000
DTSTAMP:20260423T131310
CREATED:20210702T033443Z
LAST-MODIFIED:20210702T034520Z
UID:3819-1631118600-1631125800@jbncenters.org
SUMMARY:Parent Cafe: Good Job! Good Work!.... Creating Praise Junkies
DESCRIPTION:Join us for our monthly Parent Cafe! This month\, our theme is Good Job! Good Work!…. Creating Praise Junkies. We hope you will join us! \nDinner is provided.*\nPlease RSVP by Tuesday\, September 6th so we can make sure you receive your gift card! \nCLICK HERE TO RSVP. \n*Please keep in mind that there is a $6/per child limit and a $10/adult limit. Parents will receive an email confirming the pizza gift card with the total amount included the day before Parent Café. You will be responsible for placing your own food order. The pizza can be ordered to be delivered for whatever day or time you choose. Also\, please be honest with the number of children and adults in your household as we have a limited budget for food (included in the RSVP link). \nAttendance Requirement:\nIf you cannot stay online for at least the first hour we ask that you plan to attend the next Parent Café on September 22nd. The link will be shared at a later time. \nAbout Parent Cafe\nThe John Boner Neighborhood Center Parent Cafes give parents a chance to come together to listen\, talk\, build friendships & support each other around five protective factors: \n\nResilience\nRelationships\nKnowledge\nSupport\nCommunication
URL:https://jbncenters.org/event/parent-cafe-good-job-good-work/
LOCATION:Virtual Event\, Virtual Event
CATEGORIES:Parent Cafes,Youth
ATTACH;FMTTYPE=image/png:https://jbncenters.org/wp-content/uploads/2021/07/Good-Job-Good-Work....-Creating-Praise-Junkies.png
ORGANIZER;CN="JBNC Education Achievement":MAILTO:DJGraham@jbncenters.org
END:VEVENT
BEGIN:VEVENT
DTSTART;TZID=America/New_York:20210827T110000
DTEND;TZID=America/New_York:20210827T120000
DTSTAMP:20260423T131310
CREATED:20210813T141146Z
LAST-MODIFIED:20210813T141146Z
UID:3941-1630062000-1630065600@jbncenters.org
SUMMARY:Toddler and Me - Jazzercise
DESCRIPTION:The 4th Friday of every month join us for Jazzercise for caregivers and their little ones\, ages 0 – 5. This is an opportunity for healthy\, playful activities you can enjoy with your little ones. We know that as a caregiver for little ones it can be difficult to find time to build community and socialize. This is a perfect\, no-stress event to socialize with others in the same stage of life as you. Come and get your DANCE on! \nLocated at the Union Apartments Programming Area. You will enter on the Michigan St. side. There is free street parking available. Please avoid parking in the parking lot behind the building as that is for residents only. \n*Yoga mats and other exercise items will be provided. All you need to bring is yourself and your little one.
URL:https://jbncenters.org/event/toddler-jazzercise/2021-08-27/
LOCATION:The Union Apartments\, 2407 E. Michigan St.\, Indianapolis\, IN\, 46201\, United States
CATEGORIES:Virtual Play & Learn,Youth
ATTACH;FMTTYPE=image/jpeg:https://jbncenters.org/wp-content/uploads/2021/08/pexels-monstera-7114196-scaled.jpg
END:VEVENT
BEGIN:VEVENT
DTSTART;TZID=America/New_York:20210825T163000
DTEND;TZID=America/New_York:20210825T183000
DTSTAMP:20260423T131310
CREATED:20210702T032611Z
LAST-MODIFIED:20210702T033513Z
UID:3804-1629909000-1629916200@jbncenters.org
SUMMARY:Parent Cafe: Sibling Harmony Ground Your “Helicopter” Parenting
DESCRIPTION:Join us for our monthly Parent Cafe! This month\, our theme is Ground Your “Helicopter” Parenting. We hope you will join us! \nDinner is provided.*\nPlease RSVP by Monday\, August 24th so we can make sure you receive your gift card! \nCLICK HERE TO RSVP. \n*Please keep in mind that there is a $6/per child limit and a $10/adult limit. Parents will receive an email confirming the pizza gift card with the total amount included the day before Parent Café. You will be responsible for placing your own food order. The pizza can be ordered to be delivered for whatever day or time you choose. Also\, please be honest with the number of children and adults in your household as we have a limited budget for food (included in the RSVP link). \nAttendance Requirement:\nIf you cannot stay online for at least the first hour we ask that you plan to attend the next Parent Café on September 8th. The link will be shared at a later time. \nAbout Parent Cafe\nThe John Boner Neighborhood Center Parent Cafes give parents a chance to come together to listen\, talk\, build friendships & support each other around five protective factors: \n\nResilience\nRelationships\nKnowledge\nSupport\nCommunication
URL:https://jbncenters.org/event/parent-cafe-helicopter-parenting/
LOCATION:Virtual Event\, Virtual Event
CATEGORIES:Parent Cafes,Youth
ATTACH;FMTTYPE=image/png:https://jbncenters.org/wp-content/uploads/2021/07/Ground-Your-Helicopter-Parenting.png
ORGANIZER;CN="JBNC Education Achievement":MAILTO:DJGraham@jbncenters.org
END:VEVENT
BEGIN:VEVENT
DTSTART;TZID=America/New_York:20210821T120000
DTEND;TZID=America/New_York:20210821T180000
DTSTAMP:20260423T131310
CREATED:20210806T161123Z
LAST-MODIFIED:20210806T161634Z
UID:3902-1629547200-1629568800@jbncenters.org
SUMMARY:Indy East Achievement Zone (IEAZ) Family Reunion
DESCRIPTION:The Indy East Achievement Zone (IEAZ) is holding a Family Reunion – it’s a time of celebration! John Boner Neighborhood Centers along with K.I.D Inc. Want to invite you to celebrate with your neighbors on the near Eastside. \nThis year’s celebration carries the theme “breaking the chains” and includes reflections on the challenges of the last year\, the ongoing struggle for equity and harmony\, and the hope and promise of families coming together for a brighter future for our community. \nThere will be events for all ages – children to seniors! Come enjoy food\, a family crest contest\, ice cream\, bingo\, music\, prizes\, and more.
URL:https://jbncenters.org/event/ieaz-family-reunion/
LOCATION:John Boner Neighborhood Centers\, 2236 E. 10th St.\, Indianapolis\, 46205\, United States
CATEGORIES:Parent Cafes,Youth
ATTACH;FMTTYPE=image/png:https://jbncenters.org/wp-content/uploads/2021/08/Screen-Shot-2021-08-06-at-11.42.21-AM.png
END:VEVENT
BEGIN:VEVENT
DTSTART;TZID=America/New_York:20210820T110000
DTEND;TZID=America/New_York:20210820T120000
DTSTAMP:20260423T131310
CREATED:20210813T135625Z
LAST-MODIFIED:20210831T163409Z
UID:3931-1629457200-1629460800@jbncenters.org
SUMMARY:Toddler and Me - Yoga
DESCRIPTION:The 3rd Friday of every month join us for yoga for caregivers and their little ones\, ages 0 – 5. This is an opportunity for healthy\, playful activities you can enjoy with your little ones. We know that as a caregiver for little ones it can be difficult to find time to build community and socialize. This is perfect\, no-stress event to socialize with others in the same stage of life as you. \nLocated at the Union Apartments Programming Area. You will enter on the Michigan St. side. There is free street parking available. Please avoid parking in the parking lot behind the building as that is for residents only. \n*Yoga mats will be provided. All you need to bring is yourself and your little one.
URL:https://jbncenters.org/event/toddler-yoga/2021-08-20/
LOCATION:The Union Apartments\, 2407 E. Michigan St.\, Indianapolis\, IN\, 46201\, United States
CATEGORIES:Virtual Play & Learn,Youth
ATTACH;FMTTYPE=image/jpeg:https://jbncenters.org/wp-content/uploads/2021/08/pexels-valeria-ushakova-3094230-scaled.jpg
END:VEVENT
BEGIN:VEVENT
DTSTART;TZID=America/New_York:20210818T120000
DTEND;TZID=America/New_York:20210818T130000
DTSTAMP:20260423T131310
CREATED:20210806T142043Z
LAST-MODIFIED:20210806T142043Z
UID:3900-1629288000-1629291600@jbncenters.org
SUMMARY:Ask a Therapist
DESCRIPTION:Ask a Therapist is an event for individuals to meet with a licensed therapist through the Children’s Bureau and ask general questions bout mental health services. The goal is to help break down the negative stigma of seeking mental health services through discussing individual concerns of those who join the one-hour event. \nJoin Zoom Meeting: https://zoom.us/j/96890360932?pwd=RWlIcG9UTXRFZ3NOdkpNVU1VZDBkZz09\nMeeting ID: 968 9036 0932\nPasscode: JBNC
URL:https://jbncenters.org/event/ask-a-therapist-aug-18/
LOCATION:Virtual Event\, Virtual Event
CATEGORIES:Adult Programs,Careers and Education,Family Engagement,Financial Success
ATTACH;FMTTYPE=image/png:https://jbncenters.org/wp-content/uploads/2021/07/Ask-a-Therapist-Event-Header.png
END:VEVENT
BEGIN:VEVENT
DTSTART;TZID=America/New_York:20210817T163000
DTEND;TZID=America/New_York:20210817T180000
DTSTAMP:20260423T131310
CREATED:20210806T141330Z
LAST-MODIFIED:20210806T141330Z
UID:3897-1629217800-1629223200@jbncenters.org
SUMMARY:Parenting 101
DESCRIPTION:In this Parenting 101 class\, we will hear tips and tricks about parenting. This is for ALL parents. No matter if you have been parenting for a month or 18 years\, we want you to join the discussion as well as continue to learn and grow in our parenting skills. This is a virtual event on Zoom\, Meeting ID: 966 6735 8172 Passcode: 887829.
URL:https://jbncenters.org/event/parenting-101/
LOCATION:Virtual Event\, Virtual Event
CATEGORIES:Adult Programs,Family Engagement,Parent Cafes,Youth
ATTACH;FMTTYPE=image/jpeg:https://jbncenters.org/wp-content/uploads/2021/08/pexels-nappy-3536643.jpg
END:VEVENT
BEGIN:VEVENT
DTSTART;TZID=America/New_York:20210812T183000
DTEND;TZID=America/New_York:20210812T210000
DTSTAMP:20260423T131310
CREATED:20210811T135455Z
LAST-MODIFIED:20210812T142537Z
UID:3907-1628793000-1628802000@jbncenters.org
SUMMARY:The City League Championship Game
DESCRIPTION:Come see premier basketball at the Legacy Center! The winning teams will be awarded a cash prize. Women’s game at 6:20 p.m. and the men’s game will tip off at approxamately 7:35 p.m. A special giveaway will occur as well!
URL:https://jbncenters.org/event/city-league-championship-game/
LOCATION:Boner Fitness & Learning Center\, 727 N Oriental St.\, Indianapolis\, IN\, 46202\, United States
CATEGORIES:Parent Cafes,Youth
ATTACH;FMTTYPE=image/png:https://jbncenters.org/wp-content/uploads/2021/08/TCL-Championship-Night-Flier.png
ORGANIZER;CN="Boner Fitness & Learning Center":MAILTO:ecolon-romero@jbncenters.org
END:VEVENT
BEGIN:VEVENT
DTSTART;TZID=America/New_York:20210728T163000
DTEND;TZID=America/New_York:20210728T183000
DTSTAMP:20260423T131310
CREATED:20210702T031919Z
LAST-MODIFIED:20210702T033550Z
UID:3800-1627489800-1627497000@jbncenters.org
SUMMARY:Parent Cafe: Sibling Harmony
DESCRIPTION:Join us for our monthly Parent Cafe! This month\, our theme is Sibling Harmony. We hope you will join us! \nDinner is provided.*\nPlease RSVP by Monday\, July 28th so we can make sure you receive your gift card! \nCLICK HERE TO RSVP \n*Please keep in mind that there is a $6/per child limit and a $10/adult limit. Parents will receive an email confirming the pizza gift card with the total amount included the day before Parent Café. You will be responsible for placing your own food order. The pizza can be ordered to be delivered for whatever day or time you choose. Also\, please be honest with the number of children and adults in your household as we have a limited budget for food (included in the RSVP link). \nAttendance Requirement:\nIf you cannot stay online for at least the first hour we ask that you plan to attend the next Parent Café on August 25th. The link will be shared at a later time. \nAbout Parent Cafe\nThe John Boner Neighborhood Center Parent Cafes give parents a chance to come together to listen\, talk\, build friendships & support each other around five protective factors: \n\nResilience\nRelationships\nKnowledge\nSupport\nCommunication
URL:https://jbncenters.org/event/parent-cafe-sibling-harmony/
LOCATION:Virtual Event\, Virtual Event
CATEGORIES:Parent Cafes,Youth
ATTACH;FMTTYPE=image/png:https://jbncenters.org/wp-content/uploads/2021/07/ParentCafe-SiblingHarmonyHeader.png
ORGANIZER;CN="JBNC Education Achievement":MAILTO:DJGraham@jbncenters.org
END:VEVENT
BEGIN:VEVENT
DTSTART;TZID=America/New_York:20210715T120000
DTEND;TZID=America/New_York:20210715T130000
DTSTAMP:20260423T131310
CREATED:20210701T174350Z
LAST-MODIFIED:20210701T174533Z
UID:3744-1626350400-1626354000@jbncenters.org
SUMMARY:Ask a Therapist
DESCRIPTION:Ask a Therapist is an event for individuals to meet Stacey May\, MSW\, LSW with Children’s Bureau and ask general questions bout mental health services. Stacey hopes to help break down the negative stigma of seeking mental health services through discussing individual concerns of those who join the one hour event. \nTopic: Ask a Therapist\nTime: Jul 15\, 2021 12:00 PM Eastern Time (US and Canada) \nJoin Zoom Meeting: https://zoom.us/j/91387004785?pwd=ZWJJcUV1QkFYQnNaVFFJc1BPK0lXUT09\nMeeting ID: 913 8700 4785\nPasscode: 554416
URL:https://jbncenters.org/event/ask-a-therapist/
LOCATION:Virtual Event\, Virtual Event
CATEGORIES:Adult Programs,Careers and Education,Family Engagement,Financial Success
ATTACH;FMTTYPE=image/png:https://jbncenters.org/wp-content/uploads/2021/07/Ask-a-Therapist-Event-Header.png
ORGANIZER;CN="JBNC Financial Success Department":MAILTO:financialsuccess@jbncenters.org
END:VEVENT
BEGIN:VEVENT
DTSTART;TZID=America/New_York:20210713T163000
DTEND;TZID=America/New_York:20210713T183000
DTSTAMP:20260423T131310
CREATED:20210701T180223Z
LAST-MODIFIED:20210702T024740Z
UID:3754-1626193800-1626201000@jbncenters.org
SUMMARY:Domestic Violence 101
DESCRIPTION:Domestic Violence is a common occurrence in many homes\, but it is often not talked about. We will discuss what is domestic violence; understanding power and control; the cycle of violence; why some people don’t/can’t leave; the possible impacts on children exposed to domestic violence; and what can be done to help. \nTopic: Domestic Violence 101\nTime: Jul 13\, 2021 04:30 PM Pacific Time (US and Canada) \nJoin Zoom Meeting: https://zoom.us/j/95829567764?pwd=ODZXUFhtendVOWFZVDhmRzc3MUU4UT09\nMeeting ID: 958 2956 7764\nPasscode: 138673
URL:https://jbncenters.org/event/domestic-violence-101/
LOCATION:Virtual Event\, Virtual Event
CATEGORIES:Adult Programs,Careers and Education,Family Engagement
ATTACH;FMTTYPE=image/png:https://jbncenters.org/wp-content/uploads/2021/07/Domestic-Violence-101.png
END:VEVENT
BEGIN:VEVENT
DTSTART;TZID=America/New_York:20210224T163000
DTEND;TZID=America/New_York:20210224T183000
DTSTAMP:20260423T131310
CREATED:20210114T175340Z
LAST-MODIFIED:20210216T161718Z
UID:625-1614184200-1614191400@jbncenters.org
SUMMARY:Parent Cafe: Love Yourself\, Love Your Family
DESCRIPTION:Join us for a conversations with other parents in your community! \nCafe begins promptly at 4:30 p.m. Dinner will be provided and delivered to each participant. Please submit a dinner request form here. Please note\, you must submit the dinner request form by 2/22 if you want dinner to be delivered! \nPlease RSVP to Mr. DJ by 2/22/2021 by emailing djgraham@jbncenters.org or calling (317) 624-2781.
URL:https://jbncenters.org/event/parent-cafe/
LOCATION:Virtual Event\, Virtual Event
CATEGORIES:Parent Cafes,Youth
ATTACH;FMTTYPE=image/jpeg:https://jbncenters.org/wp-content/uploads/2021/02/ParentCafe-022421-Event.jpg
ORGANIZER;CN="JBNC Education Achievement":MAILTO:DJGraham@jbncenters.org
END:VEVENT
END:VCALENDAR