BEGIN:VCALENDAR
VERSION:2.0
PRODID:-//John Boner Neighborhood Centers - ECPv6.15.20//NONSGML v1.0//EN
CALSCALE:GREGORIAN
METHOD:PUBLISH
X-ORIGINAL-URL:https://jbncenters.org
X-WR-CALDESC:Events for John Boner Neighborhood Centers
REFRESH-INTERVAL;VALUE=DURATION:PT1H
X-Robots-Tag:noindex
X-PUBLISHED-TTL:PT1H
BEGIN:VTIMEZONE
TZID:America/New_York
BEGIN:DAYLIGHT
TZOFFSETFROM:-0500
TZOFFSETTO:-0400
TZNAME:EDT
DTSTART:20240310T070000
END:DAYLIGHT
BEGIN:STANDARD
TZOFFSETFROM:-0400
TZOFFSETTO:-0500
TZNAME:EST
DTSTART:20241103T060000
END:STANDARD
BEGIN:DAYLIGHT
TZOFFSETFROM:-0500
TZOFFSETTO:-0400
TZNAME:EDT
DTSTART:20250309T070000
END:DAYLIGHT
BEGIN:STANDARD
TZOFFSETFROM:-0400
TZOFFSETTO:-0500
TZNAME:EST
DTSTART:20251102T060000
END:STANDARD
BEGIN:DAYLIGHT
TZOFFSETFROM:-0500
TZOFFSETTO:-0400
TZNAME:EDT
DTSTART:20260308T070000
END:DAYLIGHT
BEGIN:STANDARD
TZOFFSETFROM:-0400
TZOFFSETTO:-0500
TZNAME:EST
DTSTART:20261101T060000
END:STANDARD
END:VTIMEZONE
BEGIN:VEVENT
DTSTART;TZID=America/New_York:20250701T173000
DTEND;TZID=America/New_York:20250701T190000
DTSTAMP:20260424T050028
CREATED:20241221T150235Z
LAST-MODIFIED:20241221T150235Z
UID:7433-1751391000-1751396400@jbncenters.org
SUMMARY:Learn Early: Kids Kitchen
DESCRIPTION:Cooking encourages children’s thinking\, problem-solving\, and creativity. It also allows the children the opportunity to use the knowledge they have and apply it by measuring\, cause and effect\, and counting. Parents and children cooking together teaches early math and science\, encourages families to share meals more often\, and get to know each other on a deeper level. The most important thing to remember is to have fun with your children as they have those learning experiences and learn about the joy of cooking. \nRSVP to Pam Holland\, pholland@jbncenters.com.
URL:https://jbncenters.org/event/learn-early-kids-kitchen-july/
LOCATION:The Union Apartments\, 2407 E. Michigan St.\, Indianapolis\, IN\, 46201\, United States
CATEGORIES:Family Engagement,Family Success,Learn Early
ATTACH;FMTTYPE=image/png:https://jbncenters.org/wp-content/uploads/2024/12/20.png
ORGANIZER;CN="JBNC Family Success":MAILTO:pholland@jbncenters.org
END:VEVENT
BEGIN:VEVENT
DTSTART;TZID=America/New_York:20250702T130000
DTEND;TZID=America/New_York:20250702T170000
DTSTAMP:20260424T050028
CREATED:20250428T144114Z
LAST-MODIFIED:20250428T144249Z
UID:7987-1751461200-1751475600@jbncenters.org
SUMMARY:Are You Lender Ready? Small Business Workshops
DESCRIPTION:Are you Lender Ready? Is a comprehensive\, two-part series designed to help small business owners understand and prepare financials\, then connect with small business lenders.  \n\n\nWorkshop #1 on May 22 will focus on small business finance basics helping owners to become lender ready. It will walk small business owners through understanding both business and personal credit and the documents required to apply for small business loans. \n\n\n\nWorkshop #2 is a Lender Forum/Resource Fair following up on what was learned from the first workshop introducing you to traditional and alternative lenders. The end of the day will provide an opportunity for one-on-ones with lenders. \n\n\n\nRegister to attend here.  \n\nIn partnership with the US Small Business Association and SCORE. All SBA programs and services are extended to the public on a nondiscriminatory basis. Reasonable accommodations will be made if requested at least two weeks in advance.
URL:https://jbncenters.org/event/lenderworkshops/2025-07-02/
LOCATION:John Boner Neighborhood Centers\, 2236 E. 10th St.\, Indianapolis\, 46205\, United States
CATEGORIES:Adult Programs,Community,Financial Success
ATTACH;FMTTYPE=image/jpeg:https://jbncenters.org/wp-content/uploads/2025/04/pexels-jopwell-2422293-scaled.jpg
ORGANIZER;CN="Indy East Promise Zone (IEPZ)":MAILTO:enash@jbncenters.org
END:VEVENT
BEGIN:VEVENT
DTSTART;TZID=America/New_York:20250708T173000
DTEND;TZID=America/New_York:20250708T203000
DTSTAMP:20260424T050028
CREATED:20241220T154818Z
LAST-MODIFIED:20241220T154818Z
UID:7375-1751995800-1752006600@jbncenters.org
SUMMARY:Pathways to Your Financial Destination
DESCRIPTION:Learn how to triple your savings\, repair and build credit\, set financial goals\, develop spending plans\, and more. Discussions and exercises during class will improve your financial well-being and allow you to reach your dreams. There is no cost to attend. Register here: https://vcc.jbncenters.org/event/pathways-classes \nQuestions? Contact your Case Manager or Fredrick Hyche\, Financial Coach\, 317-808-2301 \n*Must attend the whole session to receive your certificate.
URL:https://jbncenters.org/event/pathways-to-your-financial-destination-fh/2025-07-08/
LOCATION:John Boner Neighborhood Centers\, 2236 E. 10th St.\, Indianapolis\, 46205\, United States
CATEGORIES:Adult Programs,Financial Success
ATTACH;FMTTYPE=image/png:https://jbncenters.org/wp-content/uploads/2024/12/January-2024.png
ORGANIZER;CN="JBNC Financial Success Department":MAILTO:financialsuccess@jbncenters.org
END:VEVENT
BEGIN:VEVENT
DTSTART;TZID=America/New_York:20250709T173000
DTEND;TZID=America/New_York:20250709T190000
DTSTAMP:20260424T050028
CREATED:20241224T174015Z
LAST-MODIFIED:20241224T174015Z
UID:7455-1752082200-1752087600@jbncenters.org
SUMMARY:Learn Early: Arts & Crafts
DESCRIPTION:Arts and crafts promote development among children. Creating things with their hands helps to improve their motor skills\, allowing the body’s muscles to move around. Painting\, drawing\, writing\, and others also play a vital role in hand-eye coordination and muscle memory retention. When parents take an active role in their children’s development\, children show greater social/emotional development\, self-control\, mental health\, and school performance. You\, as the parent\, can make a positive impact on your child’s learning. We hope you’ll join us! \nRSVP to Pam Holland\, pholland@jbncenters.com.
URL:https://jbncenters.org/event/learn-early-arts-crafts-july/
LOCATION:The Union Apartments\, 2407 E. Michigan St.\, Indianapolis\, IN\, 46201\, United States
CATEGORIES:Family Engagement,Family Success,Learn Early
ATTACH;FMTTYPE=image/png:https://jbncenters.org/wp-content/uploads/2024/12/21.png
ORGANIZER;CN="JBNC Family Success":MAILTO:pholland@jbncenters.org
END:VEVENT
BEGIN:VEVENT
DTSTART;TZID=America/New_York:20250715T100000
DTEND;TZID=America/New_York:20250715T110000
DTSTAMP:20260424T050028
CREATED:20250102T223244Z
LAST-MODIFIED:20250102T223244Z
UID:8274-1752573600-1752577200@jbncenters.org
SUMMARY:Gateway Orientation
DESCRIPTION:Ready to take control of your finances and build a brighter future? John Boner Neighborhood Financial Success Services can help! \nAt our Gateway Orientation\, you’ll: \n\nUnleash the Power of Your Finances: Discover the tools and strategies JBNC offers to boost your savings\, manage debt\, and achieve your financial goals.\nKnow Where You Stand: We’ll help you assess your current financial situation and identify areas for improvement.\nConnect with Financial Experts: Meet JBNC staff and explore personalized programs designed to empower you.\nUnlock Your Career Potential: Learn job readiness skills and gain valuable insights for career development.\n\nNo registration needed! Our convenient orientations are held twice per month. Questions? Email financialsuccess@jbncenters.org for more information.
URL:https://jbncenters.org/event/gateway-orientation-2025/2025-07-15/
LOCATION:John Boner Neighborhood Centers\, 2236 E. 10th St.\, Indianapolis\, 46205\, United States
CATEGORIES:Gateway Orientation
ATTACH;FMTTYPE=image/png:https://jbncenters.org/wp-content/uploads/2025/01/2025-Gateway-Orientation-Website-Header-1600-x-900-px.png
ORGANIZER;CN="JBNC Financial Success Department":MAILTO:financialsuccess@jbncenters.org
END:VEVENT
BEGIN:VEVENT
DTSTART;TZID=America/New_York:20250716T173000
DTEND;TZID=America/New_York:20250716T183000
DTSTAMP:20260424T050028
CREATED:20250702T211431Z
LAST-MODIFIED:20250807T151815Z
UID:8301-1752687000-1752690600@jbncenters.org
SUMMARY:Training Orientation: Advance Your Career
DESCRIPTION:Looking to boost your salary\, advance in your field\, or explore new career paths? This orientation provides valuable information on skills training\, certifications\, and licensing for working professionals. Invest in your future. Orientations are free to attend.
URL:https://jbncenters.org/event/training-orientation-advance-your-career/2025-07-16/
LOCATION:John Boner Neighborhood Centers\, 2236 E. 10th St.\, Indianapolis\, 46205\, United States
CATEGORIES:Adult Programs,Careers and Education,Training Orientation
ATTACH;FMTTYPE=image/png:https://jbncenters.org/wp-content/uploads/2025/01/Training-Orientations-Web-Header-1600-x-900-px.png
ORGANIZER;CN="JBNC Financial Success Department":MAILTO:financialsuccess@jbncenters.org
END:VEVENT
BEGIN:VEVENT
DTSTART;TZID=America/New_York:20250717T100000
DTEND;TZID=America/New_York:20250717T110000
DTSTAMP:20260424T050028
CREATED:20250102T225237Z
LAST-MODIFIED:20250102T225237Z
UID:8269-1752746400-1752750000@jbncenters.org
SUMMARY:Financial Literacy Sessions: Budget
DESCRIPTION:Master Your Money: Learn to Budget\nJoin us for our Financial Literary series and learn how to build a stronger financial foundation. \nOur budget sessions will empower you with the knowledge and tools to: \n\nTracking your income and expenses\nSetting realistic financial goals\nCreating a personalized budget\nTips for sticking to your budget\n\nQuestions? Email financialsuccess@jbncenters.org for more information.
URL:https://jbncenters.org/event/financial-literacy-sessions-budget/2025-07-17/
LOCATION:John Boner Neighborhood Centers\, 2236 E. 10th St.\, Indianapolis\, 46205\, United States
CATEGORIES:Adult Programs,Careers and Education,Financial Literacy: Budget,Financial Success
ATTACH;FMTTYPE=image/png:https://jbncenters.org/wp-content/uploads/2025/01/Budget.png
ORGANIZER;CN="JBNC Financial Success Department":MAILTO:financialsuccess@jbncenters.org
END:VEVENT
BEGIN:VEVENT
DTSTART;TZID=America/New_York:20250717T173000
DTEND;TZID=America/New_York:20250717T190000
DTSTAMP:20260424T050028
CREATED:20241231T173825Z
LAST-MODIFIED:20241231T202356Z
UID:7465-1752773400-1752778800@jbncenters.org
SUMMARY:Learn Early: Storytime
DESCRIPTION:Spark your child’s love of reading at our storytime! We’ll share captivating stories\, sing songs that build early literacy skills\, and encourage a lifelong love of books. Designed for children ages 0-5 and their caregivers. \nRSVP to Pam Holland\, pholland@jbncenters.org.
URL:https://jbncenters.org/event/learn-early-storytime-july/
LOCATION:The Union Apartments\, 2407 E. Michigan St.\, Indianapolis\, IN\, 46201\, United States
CATEGORIES:Family Engagement,Learn Early
ATTACH;FMTTYPE=image/png:https://jbncenters.org/wp-content/uploads/2024/12/22.png
ORGANIZER;CN="JBNC Family Success":MAILTO:pholland@jbncenters.org
END:VEVENT
BEGIN:VEVENT
DTSTART;TZID=America/New_York:20250721T093000
DTEND;TZID=America/New_York:20250801T160000
DTSTAMP:20260424T050028
CREATED:20250702T201807Z
LAST-MODIFIED:20250702T204747Z
UID:8284-1753090200-1754064000@jbncenters.org
SUMMARY:Career Readiness Workshop
DESCRIPTION:Whether you are preparing for your first job or seeking a career change\, this workshop will provide practical tips and insights to help you stand out in today’s competitive job market. This interactive workshop is designed to equip you with essential skills for career success. Learn how to build a compelling resume\, ace interviews\, and develop a strong professional presence. \nKey Workshop Highlights: \n\nProfessional resume writing\nInterview preparation strategies\nNetworking and professional etiquette\n\nWho Should Attend: \nThose who are currently under-employed or unemployed and would like further skills training\, certification\, and licensing. students\, recent graduates\, and professionals looking to enhance their career readiness. \nDon’t miss this opportunity to boost your confidence and take your career to the next level!\n*Earn a $200 gift card for perfect attendance for the entire 8-day workshop! \nRegister here: https://forms.office.com/r/xbdCR75JAb \nQuestions? Email financialsuccess@jbncenters.org for more information.
URL:https://jbncenters.org/event/career-readiness-workshop-july/
LOCATION:John Boner Neighborhood Centers\, 2236 E. 10th St.\, Indianapolis\, 46205\, United States
CATEGORIES:Adult Programs,Career Readiness Workshop,Careers and Education,Financial Success
ATTACH;FMTTYPE=image/png:https://jbncenters.org/wp-content/uploads/2025/01/January.png
ORGANIZER;CN="JBNC Financial Success Department":MAILTO:financialsuccess@jbncenters.org
END:VEVENT
END:VCALENDAR