BEGIN:VCALENDAR
VERSION:2.0
PRODID:-//John Boner Neighborhood Centers - ECPv6.15.20//NONSGML v1.0//EN
CALSCALE:GREGORIAN
METHOD:PUBLISH
X-ORIGINAL-URL:https://jbncenters.org
X-WR-CALDESC:Events for John Boner Neighborhood Centers
REFRESH-INTERVAL;VALUE=DURATION:PT1H
X-Robots-Tag:noindex
X-PUBLISHED-TTL:PT1H
BEGIN:VTIMEZONE
TZID:America/New_York
BEGIN:DAYLIGHT
TZOFFSETFROM:-0500
TZOFFSETTO:-0400
TZNAME:EDT
DTSTART:20210314T070000
END:DAYLIGHT
BEGIN:STANDARD
TZOFFSETFROM:-0400
TZOFFSETTO:-0500
TZNAME:EST
DTSTART:20211107T060000
END:STANDARD
BEGIN:DAYLIGHT
TZOFFSETFROM:-0500
TZOFFSETTO:-0400
TZNAME:EDT
DTSTART:20220313T070000
END:DAYLIGHT
BEGIN:STANDARD
TZOFFSETFROM:-0400
TZOFFSETTO:-0500
TZNAME:EST
DTSTART:20221106T060000
END:STANDARD
BEGIN:DAYLIGHT
TZOFFSETFROM:-0500
TZOFFSETTO:-0400
TZNAME:EDT
DTSTART:20230312T070000
END:DAYLIGHT
BEGIN:STANDARD
TZOFFSETFROM:-0400
TZOFFSETTO:-0500
TZNAME:EST
DTSTART:20231105T060000
END:STANDARD
BEGIN:DAYLIGHT
TZOFFSETFROM:-0500
TZOFFSETTO:-0400
TZNAME:EDT
DTSTART:20240310T070000
END:DAYLIGHT
BEGIN:STANDARD
TZOFFSETFROM:-0400
TZOFFSETTO:-0500
TZNAME:EST
DTSTART:20241103T060000
END:STANDARD
END:VTIMEZONE
BEGIN:VEVENT
DTSTART;TZID=America/New_York:20230123T173000
DTEND;TZID=America/New_York:20230123T200000
DTSTAMP:20260422T214945
CREATED:20230103T202550Z
LAST-MODIFIED:20230103T202930Z
UID:5294-1674495000-1674504000@jbncenters.org
SUMMARY:Parent Cafe
DESCRIPTION:The John Boner Neighborhood Center Parent Cafes give parents a chance to come together to listen\, talk\, build friendships & support each other around five protective factors: \n\nResilience\nRelationships\nKnowledge\nSupport\nCommunication\n\nJoin us for family dinner from 5:30 – 6:00 PM followed immediately by the Café. Childcare will be provided! \nPlease register for the event here: https://jbncenters.formstack.com/forms/parent_caf_registration \nWe hope you will join us!
URL:https://jbncenters.org/event/parent-cafe-jan-2023/
LOCATION:Harshman Middle School\, 1501 E 10th St.\, Indianapolis\, IN\, 46201\, United States
CATEGORIES:Adult Programs,Family Engagement,Parent Cafes
ATTACH;FMTTYPE=image/png:https://jbncenters.org/wp-content/uploads/2023/01/Generic.png
ORGANIZER;CN="JBNC Family Success":MAILTO:pholland@jbncenters.org
END:VEVENT
BEGIN:VEVENT
DTSTART;TZID=America/New_York:20220919T173000
DTEND;TZID=America/New_York:20220919T200000
DTSTAMP:20260422T214945
CREATED:20220215T035039Z
LAST-MODIFIED:20220830T182050Z
UID:4644-1663608600-1663617600@jbncenters.org
SUMMARY:Parent Cafe: Relax\, Relate\, Release!
DESCRIPTION:Join us for our monthly Parent Café! This month\, our theme is Relax\, Relate\, Release!. \nThe John Boner Neighborhood Center Parent Cafes give parents a chance to come together to listen\, talk\, build friendships & support each other around five protective factors: \n\nResilience\nRelationships\nKnowledge\nSupport\nCommunication\n\nPlease RSVP by September 12. Dinner and childcare will be provided. \nPlease register for the event here: https://jbncenters.formstack.com/forms/parent_caf_registration\nWe hope you will join us!
URL:https://jbncenters.org/event/parent-cafe-relax-relate-release/
LOCATION:Harshman Middle School\, 1501 E 10th St.\, Indianapolis\, IN\, 46201\, United States
CATEGORIES:Adult Programs,Family Engagement,Parent Cafes
ATTACH;FMTTYPE=image/png:https://jbncenters.org/wp-content/uploads/2022/02/relax.png
ORGANIZER;CN="JBNC Family Success":MAILTO:pholland@jbncenters.org
END:VEVENT
END:VCALENDAR