BEGIN:VCALENDAR
VERSION:2.0
PRODID:-//John Boner Neighborhood Centers - ECPv6.15.20//NONSGML v1.0//EN
CALSCALE:GREGORIAN
METHOD:PUBLISH
X-WR-CALNAME:John Boner Neighborhood Centers
X-ORIGINAL-URL:https://jbncenters.org
X-WR-CALDESC:Events for John Boner Neighborhood Centers
REFRESH-INTERVAL;VALUE=DURATION:PT1H
X-Robots-Tag:noindex
X-PUBLISHED-TTL:PT1H
BEGIN:VTIMEZONE
TZID:America/New_York
BEGIN:DAYLIGHT
TZOFFSETFROM:-0500
TZOFFSETTO:-0400
TZNAME:EDT
DTSTART:20230312T070000
END:DAYLIGHT
BEGIN:STANDARD
TZOFFSETFROM:-0400
TZOFFSETTO:-0500
TZNAME:EST
DTSTART:20231105T060000
END:STANDARD
BEGIN:DAYLIGHT
TZOFFSETFROM:-0500
TZOFFSETTO:-0400
TZNAME:EDT
DTSTART:20240310T070000
END:DAYLIGHT
BEGIN:STANDARD
TZOFFSETFROM:-0400
TZOFFSETTO:-0500
TZNAME:EST
DTSTART:20241103T060000
END:STANDARD
BEGIN:DAYLIGHT
TZOFFSETFROM:-0500
TZOFFSETTO:-0400
TZNAME:EDT
DTSTART:20250309T070000
END:DAYLIGHT
BEGIN:STANDARD
TZOFFSETFROM:-0400
TZOFFSETTO:-0500
TZNAME:EST
DTSTART:20251102T060000
END:STANDARD
END:VTIMEZONE
BEGIN:VEVENT
DTSTART;TZID=America/New_York:20240430T100000
DTEND;TZID=America/New_York:20240430T160000
DTSTAMP:20260422T175957
CREATED:20240312T184844Z
LAST-MODIFIED:20240315T142501Z
UID:6730-1714471200-1714492800@jbncenters.org
SUMMARY:IEPZ Small Business Week: Access to Capital
DESCRIPTION:Join local small business and entrepreneurship support professionals to take a deep dive into capital funding opportunities. Through this program\, you will learn how to become loan-ready\, connect with local banks and financial institutions\, and explore alternative funding options. This is a full-day event with lunch generously provided by Merchants Bank of Indiana. Register here. \n9:15 a.m. // Registration Opens \n10 a.m. // Getting Ready for a Bank Loan & Credit Repair & Credit Building  \n11 a.m. // Panel Discussion on Loan Readiness \n12 p.m. // Lunch Provided \n1 p.m. // Connecting with a Bank or Community Development Financial Institution \n3 p.m. // Crowdfunding\, Seed Capital & Grant Opportunities \nIn partnership with: \n \n 
URL:https://jbncenters.org/event/iepz-small-business-week-access-to-capital/
LOCATION:Merchants Bank of Indiana\, 441 W. Michigan St.\, Indianapolis\, IN\, IN\, United States
CATEGORIES:Adult Programs,Community
ATTACH;FMTTYPE=image/png:https://jbncenters.org/wp-content/uploads/2024/03/Access-to-Capital-1.png
ORGANIZER;CN="Indy East Promise Zone (IEPZ)":MAILTO:enash@jbncenters.org
END:VEVENT
END:VCALENDAR